BEGIN:VCALENDAR
VERSION:2.0
PRODID:-//hacksw/handcal//NONSGML v1.0//EN
CALSCALE:GREGORIAN
BEGIN:VEVENT
ORGANIZER;CN=Medpace Holdings, Inc.:MAILTO:no-reply@mail.gcs-web.com
DTEND:
UID:72af5a8b-6b67-491f-8d2a-dda3a206658d
DTSTAMP:1777129330
LOCATION:http://www.virtualshareholdermeeting.com/MEDP2026
DESCRIPTION:Event Details https://investor.medpace.com/events/event-details/medpace-holdings-inc-annual-meeting-stockholders-7\n\nWebcast: http://www.virtualshareholdermeeting.com/MEDP2026
URL;VALUE=URI:http://www.virtualshareholdermeeting.com/MEDP2026
SUMMARY:Medpace Holdings, Inc. - Medpace Holdings, Inc. Annual Meeting of Stockholders
DTSTART:20260515T130000Z
END:VEVENT
END:VCALENDAR